BEGIN:VCALENDAR
VERSION:2.0
PRODID:-//Förderverein Freibad Gräfenberg - ECPv6.14.2//NONSGML v1.0//EN
CALSCALE:GREGORIAN
METHOD:PUBLISH
X-ORIGINAL-URL:https://foerderverein-freibad-graefenberg.de
X-WR-CALDESC:Veranstaltungen für Förderverein Freibad Gräfenberg
REFRESH-INTERVAL;VALUE=DURATION:PT1H
X-Robots-Tag:noindex
X-PUBLISHED-TTL:PT1H
BEGIN:VTIMEZONE
TZID:UTC
BEGIN:STANDARD
TZOFFSETFROM:+0000
TZOFFSETTO:+0000
TZNAME:UTC
DTSTART:20170101T000000
END:STANDARD
END:VTIMEZONE
BEGIN:VEVENT
DTSTART;TZID=UTC:20170722T180000
DTEND;TZID=UTC:20170722T220000
DTSTAMP:20260420T040347
CREATED:20170603T093321Z
LAST-MODIFIED:20170710T075731Z
UID:359-1500746400-1500760800@foerderverein-freibad-graefenberg.de
SUMMARY:Freibadfest 2017
DESCRIPTION:
URL:https://foerderverein-freibad-graefenberg.de/event/freibadfest-2017/
LOCATION:Freibad Gräfenberg\, Egloffsteinerstraße  22\, Gräfenberg\, Franken\, 91322\, Deutschland
END:VEVENT
END:VCALENDAR